BEGIN:VCALENDAR
VERSION:2.0
PRODID:-//CES Training - ECPv6.15.12.2//NONSGML v1.0//EN
CALSCALE:GREGORIAN
METHOD:PUBLISH
X-WR-CALNAME:CES Training
X-ORIGINAL-URL:https://cestraining.org
X-WR-CALDESC:Events for CES Training
REFRESH-INTERVAL;VALUE=DURATION:PT1H
X-Robots-Tag:noindex
X-PUBLISHED-TTL:PT1H
BEGIN:VTIMEZONE
TZID:America/Phoenix
BEGIN:STANDARD
TZOFFSETFROM:-0700
TZOFFSETTO:-0700
TZNAME:MST
DTSTART:20240101T000000
END:STANDARD
END:VTIMEZONE
BEGIN:VEVENT
DTSTART;TZID=America/Phoenix:20260309T090000
DTEND;TZID=America/Phoenix:20260309T150000
DTSTAMP:20260421T140628
CREATED:20251212T201044Z
LAST-MODIFIED:20251212T201044Z
UID:2247-1773046800-1773068400@cestraining.org
SUMMARY:ServSafe® Managers Class - English
DESCRIPTION:This ServSafe training covers critical principles including personal hygiene\, cross-contamination\, time and temperature\, receiving and storage\, food safety management systems\, training hourly employees and more. Each student that registers into a class will receive our proprietary study guide with all the resources it contains to read through\, prior to the class.
URL:https://cestraining.org/event/servsafe-managers-class-english-ces-training-mar26/
LOCATION:Countryside Community Club\, 9151 N Bald Eagle Ave\, Tucson\, AZ\, 85742\, United States
ORGANIZER;CN="Creative Educational Solutions":MAILTO:james@cestraining.org
END:VEVENT
BEGIN:VEVENT
DTSTART;TZID=America/Phoenix:20260209T090000
DTEND;TZID=America/Phoenix:20260209T150000
DTSTAMP:20260421T140628
CREATED:20251212T200947Z
LAST-MODIFIED:20251212T201147Z
UID:2248-1770627600-1770649200@cestraining.org
SUMMARY:ServSafe® Managers Class - English
DESCRIPTION:This ServSafe training covers critical principles including personal hygiene\, cross-contamination\, time and temperature\, receiving and storage\, food safety management systems\, training hourly employees and more. Each student that registers into a class will receive our proprietary study guide with all the resources it contains to read through\, prior to the class.
URL:https://cestraining.org/event/servsafe-managers-class-english-ces-training-fav26/
LOCATION:Countryside Community Club\, 9151 N Bald Eagle Ave\, Tucson\, AZ\, 85742\, United States
ORGANIZER;CN="Creative Educational Solutions":MAILTO:james@cestraining.org
END:VEVENT
BEGIN:VEVENT
DTSTART;TZID=America/Phoenix:20260112T090000
DTEND;TZID=America/Phoenix:20260112T150000
DTSTAMP:20260421T140628
CREATED:20251212T200757Z
LAST-MODIFIED:20251212T200757Z
UID:2249-1768208400-1768230000@cestraining.org
SUMMARY:ServSafe® Managers Class - English
DESCRIPTION:This ServSafe training covers critical principles including personal hygiene\, cross-contamination\, time and temperature\, receiving and storage\, food safety management systems\, training hourly employees and more. Each student that registers into a class will receive our proprietary study guide with all the resources it contains to read through\, prior to the class.
URL:https://cestraining.org/event/servsafe-managers-class-english-ces-training-jan26/
LOCATION:AZ
END:VEVENT
BEGIN:VEVENT
DTSTART;TZID=America/Phoenix:20251208T090000
DTEND;TZID=America/Phoenix:20251208T150000
DTSTAMP:20260421T140628
CREATED:20241121T054818Z
LAST-MODIFIED:20241121T055354Z
UID:1939-1765184400-1765206000@cestraining.org
SUMMARY:ServSafe® Managers Class - English
DESCRIPTION:This ServSafe training covers critical principles including personal hygiene\, cross-contamination\, time and temperature\, receiving and storage\, food safety management systems\, training hourly employees and more. Each student that registers into a class will receive our proprietary study guide with all the resources it contains to read through\, prior to the class.
URL:https://cestraining.org/event/servsafe-managers-class-english-ces-training-december-2/
LOCATION:Countryside Community Club\, 9151 N Bald Eagle Ave\, Tucson\, AZ\, 85742\, United States
ORGANIZER;CN="Creative Educational Solutions":MAILTO:james@cestraining.org
END:VEVENT
BEGIN:VEVENT
DTSTART;TZID=America/Phoenix:20251110T090000
DTEND;TZID=America/Phoenix:20251110T150000
DTSTAMP:20260421T140628
CREATED:20241121T054659Z
LAST-MODIFIED:20241121T055336Z
UID:1938-1762765200-1762786800@cestraining.org
SUMMARY:ServSafe® Managers Class - English
DESCRIPTION:This ServSafe training covers critical principles including personal hygiene\, cross-contamination\, time and temperature\, receiving and storage\, food safety management systems\, training hourly employees and more. Each student that registers into a class will receive our proprietary study guide with all the resources it contains to read through\, prior to the class.
URL:https://cestraining.org/event/servsafe-managers-class-english-ces-training-november-2/
LOCATION:Countryside Community Club\, 9151 N Bald Eagle Ave\, Tucson\, AZ\, 85742\, United States
ORGANIZER;CN="Creative Educational Solutions":MAILTO:james@cestraining.org
END:VEVENT
END:VCALENDAR